BEGIN:VCALENDAR
VERSION:2.0
PRODID:-//Squarespace Inc/Squarespace 6//v6//EN
BEGIN:VEVENT
UID:5cb86666f9619a02258102c6@squarespace.com
DTSTAMP:20190418T115915Z
DTSTART:20190712T230000Z
DTEND:20190713T010000Z
SUMMARY:Cross Country - Coburg
END:VEVENT
END:VCALENDAR
