BEGIN:VCALENDAR
VERSION:2.0
PRODID:-//Squarespace Inc/Squarespace 6//v6//EN
BEGIN:VEVENT
UID:5cb8642e4e17b6449c043441@squarespace.com
DTSTAMP:20190418T115043Z
DTSTART:20190628T230000Z
DTEND:20190629T010000Z
SUMMARY:Cross-Country - Coburg
END:VEVENT
END:VCALENDAR
