BEGIN:VCALENDAR
VERSION:2.0
PRODID:-//Squarespace Inc/Squarespace 6//v6//EN
BEGIN:VEVENT
UID:5cb8637553450adfb39bae46@squarespace.com
DTSTAMP:20190418T114734Z
DTSTART:20190622T000000Z
DTEND:20190622T020000Z
SUMMARY:Cross-Country - Regional Championships at Essendon
END:VEVENT
END:VCALENDAR
