BEGIN:VCALENDAR
VERSION:2.0
PRODID:-//Squarespace Inc/Squarespace 6//v6//EN
BEGIN:VEVENT
UID:5d34344015cffe00018217b2@squarespace.com
DTSTAMP:20190721T100043Z
DTSTART:20191109T210000Z
DTEND:20191110T060000Z
SUMMARY:NMR Regional Multi-event Carnival\, U9 to U15 only
END:VEVENT
END:VCALENDAR
