BEGIN:VCALENDAR
VERSION:2.0
PRODID:-//Squarespace Inc/Squarespace 6//v6//EN
BEGIN:VEVENT
UID:5d3434d7fabc59000191d963@squarespace.com
DTSTAMP:20190721T094938Z
DTSTART:20191122T210000Z
DTEND:20191123T060000Z
SUMMARY:NMR Regional Relay Carnival (U9 to U15 age groups)
END:VEVENT
END:VCALENDAR
