BEGIN:VCALENDAR
VERSION:2.0
PRODID:-//Squarespace Inc/Squarespace 6//v6//EN
BEGIN:VEVENT
UID:5d3438274ce26b000136ab31@squarespace.com
DTSTAMP:20190721T100254Z
DTSTART:20200214T210000Z
DTEND:20200216T060000Z
SUMMARY:NMR Regional Track and Field Carnival (U9 to U15 age groups)
END:VEVENT
END:VCALENDAR
