BEGIN:VCALENDAR
VERSION:2.0
PRODID:-//Squarespace Inc/Squarespace 6//v6//EN
BEGIN:VEVENT
UID:5d34386c7aeb300001f76863@squarespace.com
DTSTAMP:20190721T100343Z
DTSTART:20200313T210000Z
DTEND:20200315T060000Z
SUMMARY:State Regional Track and Field Carnival (U9 to U15 age groups)
END:VEVENT
END:VCALENDAR
