BEGIN:VCALENDAR
VERSION:2.0
PRODID:-//Squarespace Inc/Squarespace 6//v6//EN
BEGIN:VEVENT
UID:5d3435ce80972800014a7d0c@squarespace.com
DTSTAMP:20190721T095317Z
DTSTART:20191213T210000Z
DTEND:20191214T060000Z
SUMMARY:State Regional Relay Carnival (U9 to U15 age groups)
END:VEVENT
END:VCALENDAR
