BEGIN:VCALENDAR
VERSION:2.0
PRODID:-//Squarespace Inc/Squarespace 6//v6//EN
BEGIN:VEVENT
UID:5d3437d715cffe0001822fab@squarespace.com
DTSTAMP:20190721T100144Z
DTSTART:20200131T210000Z
DTEND:20200202T060000Z
SUMMARY:State Multi-event Regional Carnival (U9 to U15 age groups)
END:VEVENT
END:VCALENDAR
