BEGIN:VCALENDAR
VERSION:2.0
PRODID:-//Squarespace Inc/Squarespace 6//v6//EN
BEGIN:VEVENT
UID:5d8b49f71288c606468c8f2c@squarespace.com
DTSTAMP:20190925T110552Z
DTSTART:20191008T070000Z
DTEND:20191008T080000Z
SUMMARY:KLAC Weekly Training
END:VEVENT
END:VCALENDAR
