BEGIN:VCALENDAR
VERSION:2.0
PRODID:-//Squarespace Inc/Squarespace 6//v6//EN
BEGIN:VEVENT
UID:5d8b4a59def8834a6114f025@squarespace.com
DTSTAMP:20190925T110722Z
DTSTART:20191029T070000Z
DTEND:20191029T080000Z
SUMMARY:KLAC Weekly Training
END:VEVENT
END:VCALENDAR
