BEGIN:VCALENDAR
VERSION:2.0
PRODID:-//Squarespace Inc/Squarespace 6//v6//EN
BEGIN:VEVENT
UID:5d8b4a78451b7e243ce1dad3@squarespace.com
DTSTAMP:20190925T110849Z
DTSTART:20191105T070000Z
DTEND:20191105T080000Z
SUMMARY:No KLAC Weekly Training this week - due to Melbourne Cup
END:VEVENT
END:VCALENDAR
