BEGIN:VCALENDAR
VERSION:2.0
PRODID:-//Squarespace Inc/Squarespace 6//v6//EN
BEGIN:VEVENT
UID:5d8b4a90284fec02afe02d68@squarespace.com
DTSTAMP:20190925T111040Z
DTSTART:20191126T070000Z
DTEND:20191126T080000Z
SUMMARY:KLAC Weekly Training
END:VEVENT
END:VCALENDAR
