BEGIN:VCALENDAR
VERSION:2.0
PRODID:-//Squarespace Inc/Squarespace 6//v6//EN
BEGIN:VEVENT
UID:5d8b4bf46a16117cd888ceca@squarespace.com
DTSTAMP:20190925T111408Z
DTSTART:20191210T070000Z
DTEND:20191210T080000Z
SUMMARY:KLAC Weekly Training
END:VEVENT
END:VCALENDAR
