BEGIN:VCALENDAR
VERSION:2.0
PRODID:-//Squarespace Inc/Squarespace 6//v6//EN
BEGIN:VEVENT
UID:5d8b4c423a0f2c0390ae8c3e@squarespace.com
DTSTAMP:20190925T111525Z
DTSTART:20200121T070000Z
DTEND:20200121T080000Z
SUMMARY:KLAC Weekly Training
END:VEVENT
END:VCALENDAR
