BEGIN:VCALENDAR
VERSION:2.0
PRODID:-//Squarespace Inc/Squarespace 6//v6//EN
BEGIN:VEVENT
UID:5d8b4cce451b7e243ce1ffe4@squarespace.com
DTSTAMP:20190925T111753Z
DTSTART:20200204T070000Z
DTEND:20200204T080000Z
SUMMARY:KLAC Weekly Training
END:VEVENT
END:VCALENDAR
