BEGIN:VCALENDAR
VERSION:2.0
PRODID:-//Squarespace Inc/Squarespace 6//v6//EN
BEGIN:VEVENT
UID:5d8b4d691288c606468cc0ed@squarespace.com
DTSTAMP:20190925T112023Z
DTSTART:20200218T070000Z
DTEND:20200218T080000Z
SUMMARY:KLAC Weekly Training
END:VEVENT
END:VCALENDAR
