BEGIN:VCALENDAR
VERSION:2.0
PRODID:-//Squarespace Inc/Squarespace 6//v6//EN
BEGIN:VEVENT
UID:5d8b4dc21288c606468cc663@squarespace.com
DTSTAMP:20190925T112759Z
DTSTART:20200317T070000Z
DTEND:20200317T080000Z
SUMMARY:KLAC Weekly Training
END:VEVENT
END:VCALENDAR
