BEGIN:VCALENDAR
VERSION:2.0
PRODID:-//Squarespace Inc/Squarespace 6//v6//EN
BEGIN:VEVENT
UID:5d8b4dae0603222cffa00f2d@squarespace.com
DTSTAMP:20190925T112127Z
DTSTART:20200225T070000Z
DTEND:20200225T080000Z
SUMMARY:KLAC Weekly Training
END:VEVENT
END:VCALENDAR
