BEGIN:VCALENDAR
VERSION:2.0
PRODID:-//Squarespace Inc/Squarespace 6//v6//EN
BEGIN:VEVENT
UID:5d3432d97a66810001f641d7@squarespace.com
DTSTAMP:20190906T112656Z
DTSTART:20191004T230000Z
DTEND:20191005T020000Z
SUMMARY:KLAC Regular Competition\, Points Round 1. Program A
END:VEVENT
END:VCALENDAR
