BEGIN:VCALENDAR
VERSION:2.0
PRODID:-//Squarespace Inc/Squarespace 6//v6//EN
BEGIN:VEVENT
UID:5d343322e131210001049cd4@squarespace.com
DTSTAMP:20190906T112851Z
DTSTART:20191011T220000Z
DTEND:20191012T010000Z
SUMMARY:KLAC Regular Competition\, Points Round 2. Program B
END:VEVENT
END:VCALENDAR
