BEGIN:VCALENDAR
VERSION:2.0
PRODID:-//Squarespace Inc/Squarespace 6//v6//EN
BEGIN:VEVENT
UID:5d34339d50f69e0001f87780@squarespace.com
DTSTAMP:20190906T113104Z
DTSTART:20191018T220000Z
DTEND:20191019T010000Z
SUMMARY:KLAC Regular Competition\, Points Round 3. Program C
END:VEVENT
END:VCALENDAR
