BEGIN:VCALENDAR
VERSION:2.0
PRODID:-//Squarespace Inc/Squarespace 6//v6//EN
BEGIN:VEVENT
UID:5d3433b97aeb300001f74949@squarespace.com
DTSTAMP:20190906T113236Z
DTSTART:20191025T220000Z
DTEND:20191026T010000Z
SUMMARY:KLAC Regular Competition\, Points Round 4. Program A1
END:VEVENT
END:VCALENDAR
