BEGIN:VCALENDAR
VERSION:2.0
PRODID:-//Squarespace Inc/Squarespace 6//v6//EN
BEGIN:VEVENT
UID:5d3433d725886a00014e0cfe@squarespace.com
DTSTAMP:20190906T113335Z
DTSTART:20191101T220000Z
DTEND:20191102T010000Z
SUMMARY:KLAC Regular Competition\, Points Round 5. Program B1
END:VEVENT
END:VCALENDAR
