BEGIN:VCALENDAR
VERSION:2.0
PRODID:-//Squarespace Inc/Squarespace 6//v6//EN
BEGIN:VEVENT
UID:5d72445bf7a8e300010a17e4@squarespace.com
DTSTAMP:20190906T113559Z
DTSTART:20191108T220000Z
DTEND:20191109T010000Z
SUMMARY:KLAC Regular Competition\, Points Round 6. Program C
END:VEVENT
END:VCALENDAR
