BEGIN:VCALENDAR
VERSION:2.0
PRODID:-//Squarespace Inc/Squarespace 6//v6//EN
BEGIN:VEVENT
UID:5d34349201c3590001784d2c@squarespace.com
DTSTAMP:20190906T113727Z
DTSTART:20191115T220000Z
DTEND:20191116T010000Z
SUMMARY:KLAC Regular Competition\, Points Round 7. Program A
END:VEVENT
END:VCALENDAR
