BEGIN:VCALENDAR
VERSION:2.0
PRODID:-//Squarespace Inc/Squarespace 6//v6//EN
BEGIN:VEVENT
UID:5d34357aa0d19600018169c4@squarespace.com
DTSTAMP:20190906T113828Z
DTSTART:20191129T220000Z
DTEND:20191130T010000Z
SUMMARY:KLAC Regular Competition\, Points Round 8. Program B
END:VEVENT
END:VCALENDAR
