BEGIN:VCALENDAR
VERSION:2.0
PRODID:-//Squarespace Inc/Squarespace 6//v6//EN
BEGIN:VEVENT
UID:5d3435aea472a70001d5c09a@squarespace.com
DTSTAMP:20190906T114059Z
DTSTART:20200117T220000Z
DTEND:20200118T010000Z
SUMMARY:Essendon vs Keilor - At Essendon
END:VEVENT
END:VCALENDAR
