BEGIN:VCALENDAR
VERSION:2.0
PRODID:-//Squarespace Inc/Squarespace 6//v6//EN
BEGIN:VEVENT
UID:5d359a8a25886a00015fe8b2@squarespace.com
DTSTAMP:20190906T114213Z
DTSTART:20200124T220000Z
DTEND:20200125T010000Z
SUMMARY:KLAC Regular Competition\, Points Round 10.  Program A
END:VEVENT
END:VCALENDAR
