BEGIN:VCALENDAR
VERSION:2.0
PRODID:-//Squarespace Inc/Squarespace 6//v6//EN
BEGIN:VEVENT
UID:5d359b5482d5a400016fe0d2@squarespace.com
DTSTAMP:20190906T114242Z
DTSTART:20200131T220000Z
DTEND:20200201T010000Z
SUMMARY:KLAC Regular Competition\, Points Round 11. Program B
END:VEVENT
END:VCALENDAR
