BEGIN:VCALENDAR
VERSION:2.0
PRODID:-//Squarespace Inc/Squarespace 6//v6//EN
BEGIN:VEVENT
UID:5d359b9201c359000189e56d@squarespace.com
DTSTAMP:20190906T114406Z
DTSTART:20200207T220000Z
DTEND:20200208T010000Z
SUMMARY:KLAC Regular Competition\, 50th Anniversary Celebration. Points Rou
 nd 12. Program C
END:VEVENT
END:VCALENDAR
