BEGIN:VCALENDAR
VERSION:2.0
PRODID:-//Squarespace Inc/Squarespace 6//v6//EN
BEGIN:VEVENT
UID:5d359c1880972800015c3276@squarespace.com
DTSTAMP:20190906T114433Z
DTSTART:20200221T220000Z
DTEND:20200222T010000Z
SUMMARY:KLAC Regular Competition\, Points Round 13.  Program A.
END:VEVENT
END:VCALENDAR
