BEGIN:VCALENDAR
VERSION:2.0
PRODID:-//Squarespace Inc/Squarespace 6//v6//EN
BEGIN:VEVENT
UID:5d359c5e25886a00015ffd79@squarespace.com
DTSTAMP:20190906T114501Z
DTSTART:20200228T220000Z
DTEND:20200229T010000Z
SUMMARY:KLAC Regular Competition\, Points Round 14. Program B.
END:VEVENT
END:VCALENDAR
