BEGIN:VCALENDAR
VERSION:2.0
PRODID:-//Squarespace Inc/Squarespace 6//v6//EN
BEGIN:VEVENT
UID:5d359c814ce26b0001485322@squarespace.com
DTSTAMP:20190906T114527Z
DTSTART:20200306T220000Z
DTEND:20200307T010000Z
SUMMARY:KLAC Regular Competition\, Points Round 15. Heats of Tim Golder 100
 m Handicap. Program C.
END:VEVENT
END:VCALENDAR
