BEGIN:VCALENDAR
VERSION:2.0
PRODID:-//Squarespace Inc/Squarespace 6//v6//EN
BEGIN:VEVENT
UID:5d34364018cbd70001219a6a@squarespace.com
DTSTAMP:20190721T095523Z
DTSTART:20191214T220000Z
DTEND:20191215T003000Z
SUMMARY:KLAC Xmas Round of competition. Note this event is on Sunday mornin
 g
END:VEVENT
END:VCALENDAR
