BEGIN:VCALENDAR
VERSION:2.0
PRODID:-//Squarespace Inc/Squarespace 6//v6//EN
BEGIN:VEVENT
UID:5d359a4ab5c4a10001338471@squarespace.com
DTSTAMP:20190906T113924Z
DTSTART:20191206T220000Z
DTEND:20191207T010000Z
SUMMARY:KLAC Regular Competition\, Points Round 9. Program C
END:VEVENT
END:VCALENDAR
